BEGIN:VCALENDAR
VERSION:2.0
PRODID:-//81.169.145.171//NONSGML kigkonsult.se iCalcreator 2.20//
CALSCALE:GREGORIAN
METHOD:PUBLISH
X-WR-TIMEZONE:Europe/Amsterdam
BEGIN:VEVENT
UID:event940@OBV Online
DTSTAMP:20260425T192344Z
CATEGORIES:Aanhanger
DESCRIPTION:Grad aanhanger\nCategory: Aanhanger\nLink: https://www.obv-onli
 ne.nl/index.php?option=com_jem&view=event&id=940:grad-aanhanger\n
DTSTART;VALUE=DATE:20260428
DTEND;VALUE=DATE:20260429
SUMMARY:Grad aanhanger
URL:https://www.obv-online.nl/index.php?option=com_jem&view=event&id=940:gr
 ad-aanhanger
END:VEVENT
END:VCALENDAR