BEGIN:VCALENDAR
VERSION:2.0
PRODID:-//81.169.145.171//NONSGML kigkonsult.se iCalcreator 2.20//
CALSCALE:GREGORIAN
METHOD:PUBLISH
X-WR-TIMEZONE:Europe/Amsterdam
BEGIN:VEVENT
UID:event939@OBV Online
DTSTAMP:20260423T095122Z
CATEGORIES:Koelkast
DESCRIPTION:Mike Koelkast\nCategory: Koelkast\nLink: https://www.obv-online
 .nl/index.php?option=com_jem&view=event&id=939:mike-koelkast\n
DTSTART;VALUE=DATE:20260424
DTEND;VALUE=DATE:20260504
SUMMARY:Mike Koelkast
URL:https://www.obv-online.nl/index.php?option=com_jem&view=event&id=939:mi
 ke-koelkast
END:VEVENT
END:VCALENDAR