BEGIN:VCALENDAR
VERSION:2.0
PRODID:-//81.169.145.171//NONSGML kigkonsult.se iCalcreator 2.20//
CALSCALE:GREGORIAN
METHOD:PUBLISH
X-WR-TIMEZONE:Europe/Amsterdam
BEGIN:VEVENT
UID:event938@OBV Online
DTSTAMP:20260421T115057Z
CATEGORIES:Aanhanger
DESCRIPTION:Maikel aanhanger\nCategory: Aanhanger\nLink: https://www.obv-on
 line.nl/index.php?option=com_jem&view=event&id=938:maikel-aanhanger\n
DTSTART;VALUE=DATE:20260424
DTEND;VALUE=DATE:20260425
SUMMARY:Maikel aanhanger
URL:https://www.obv-online.nl/index.php?option=com_jem&view=event&id=938:ma
 ikel-aanhanger
END:VEVENT
END:VCALENDAR